BEGIN:VCALENDAR
VERSION:2.0
PRODID:-//Giovane-Elber-Stiftung - ECPv6.15.18//NONSGML v1.0//EN
CALSCALE:GREGORIAN
METHOD:PUBLISH
X-ORIGINAL-URL:https://giovane-elber-stiftung.de
X-WR-CALDESC:Veranstaltungen für Giovane-Elber-Stiftung
REFRESH-INTERVAL;VALUE=DURATION:PT1H
X-Robots-Tag:noindex
X-PUBLISHED-TTL:PT1H
BEGIN:VTIMEZONE
TZID:Europe/Berlin
BEGIN:DAYLIGHT
TZOFFSETFROM:+0100
TZOFFSETTO:+0200
TZNAME:CEST
DTSTART:20200329T010000
END:DAYLIGHT
BEGIN:STANDARD
TZOFFSETFROM:+0200
TZOFFSETTO:+0100
TZNAME:CET
DTSTART:20201025T010000
END:STANDARD
BEGIN:DAYLIGHT
TZOFFSETFROM:+0100
TZOFFSETTO:+0200
TZNAME:CEST
DTSTART:20210328T010000
END:DAYLIGHT
BEGIN:STANDARD
TZOFFSETFROM:+0200
TZOFFSETTO:+0100
TZNAME:CET
DTSTART:20211031T010000
END:STANDARD
BEGIN:DAYLIGHT
TZOFFSETFROM:+0100
TZOFFSETTO:+0200
TZNAME:CEST
DTSTART:20220327T010000
END:DAYLIGHT
BEGIN:STANDARD
TZOFFSETFROM:+0200
TZOFFSETTO:+0100
TZNAME:CET
DTSTART:20221030T010000
END:STANDARD
END:VTIMEZONE
BEGIN:VEVENT
DTSTART;TZID=Europe/Berlin:20211104T193000
DTEND;TZID=Europe/Berlin:20211104T230000
DTSTAMP:20260426T060409
CREATED:20211007T162442Z
LAST-MODIFIED:20211007T162442Z
UID:2416-1636054200-1636066800@giovane-elber-stiftung.de
SUMMARY:Novemberstammtisch 2021
DESCRIPTION:Unser Novemberstammtisch findet am Donnerstag\, den 04.11.2021 ab 19:30 Uhr im Restaurant Buschle Ostlandstrasse \, 73650 Winterbach statt. \nInteressenten\, Sponsoren\, Unterstützer und Freunde des Vereins und der Stiftung\, aber auch Neugierige\, die Verein und Stiftung kennen lernen möchten\, sind recht herzlich eingeladen. \nTeilnahme nach den aktuellen Coronabedingungen! \nZur besseren Planung bitten wir um Anmeldung unter: info@giovane-elber-stiftung.de
URL:https://giovane-elber-stiftung.de/event/novemberstammtisch-2021/
LOCATION:Restaurant Buschle\, Ostlansstraße 2\, Winterbach\, 73650
ATTACH;FMTTYPE=image/jpeg:https://giovane-elber-stiftung.de/wp-content/uploads/2021/10/Restaurant-Buschle-Winterbach.jpg
ORGANIZER;CN="Verein zur F%C3%B6rderung brasilianischer Stra%C3%9Fenkinder e.V.":MAILTO:info@giovane-elber-stiftung.de
END:VEVENT
END:VCALENDAR