BEGIN:VCALENDAR
VERSION:2.0
PRODID:-//Giovane-Elber-Stiftung - ECPv6.15.18//NONSGML v1.0//EN
CALSCALE:GREGORIAN
METHOD:PUBLISH
X-ORIGINAL-URL:https://giovane-elber-stiftung.de
X-WR-CALDESC:Veranstaltungen für Giovane-Elber-Stiftung
REFRESH-INTERVAL;VALUE=DURATION:PT1H
X-Robots-Tag:noindex
X-PUBLISHED-TTL:PT1H
BEGIN:VTIMEZONE
TZID:Europe/Berlin
BEGIN:DAYLIGHT
TZOFFSETFROM:+0100
TZOFFSETTO:+0200
TZNAME:CEST
DTSTART:20200329T010000
END:DAYLIGHT
BEGIN:STANDARD
TZOFFSETFROM:+0200
TZOFFSETTO:+0100
TZNAME:CET
DTSTART:20201025T010000
END:STANDARD
BEGIN:DAYLIGHT
TZOFFSETFROM:+0100
TZOFFSETTO:+0200
TZNAME:CEST
DTSTART:20210328T010000
END:DAYLIGHT
BEGIN:STANDARD
TZOFFSETFROM:+0200
TZOFFSETTO:+0100
TZNAME:CET
DTSTART:20211031T010000
END:STANDARD
BEGIN:DAYLIGHT
TZOFFSETFROM:+0100
TZOFFSETTO:+0200
TZNAME:CEST
DTSTART:20220327T010000
END:DAYLIGHT
BEGIN:STANDARD
TZOFFSETFROM:+0200
TZOFFSETTO:+0100
TZNAME:CET
DTSTART:20221030T010000
END:STANDARD
END:VTIMEZONE
BEGIN:VEVENT
DTSTART;TZID=Europe/Berlin:20211202T193000
DTEND;TZID=Europe/Berlin:20211202T230000
DTSTAMP:20260426T044156
CREATED:20211105T114705Z
LAST-MODIFIED:20211105T114705Z
UID:2435-1638473400-1638486000@giovane-elber-stiftung.de
SUMMARY:Dezemberstammtisch 2021
DESCRIPTION:Unser Dezemberstammtisch findet am Donnerstag\, den 02.12.2021 ab 19:30 Uhr im Restaurant Krone\, Kronenbergele 1 \, 73650 Winterbach statt. \nInteressenten\, Sponsoren\, Unterstützer und Freunde des Vereins und der Stiftung\, aber auch Neugierige\, die Verein und Stiftung kennen lernen möchten\, sind recht herzlich eingeladen. \nTeilnahme nach den aktuellen Coronabedingungen! \nZur besseren Planung bitten wir um Anmeldung unter: info@giovane-elber-stiftung.de
URL:https://giovane-elber-stiftung.de/event/dezemberstammtisch-2021/
LOCATION:Restaurant Krone – Winterbach\, Kronenbergele 1\, Winterbach\, 73650
ATTACH;FMTTYPE=image/jpeg:https://giovane-elber-stiftung.de/wp-content/uploads/2018/10/Restaurant-Krone-Winterbach.jpg
ORGANIZER;CN="Verein zur F%C3%B6rderung brasilianischer Stra%C3%9Fenkinder e.V.":MAILTO:info@giovane-elber-stiftung.de
END:VEVENT
END:VCALENDAR