BEGIN:VCALENDAR
VERSION:2.0
PRODID:-//Giovane-Elber-Stiftung - ECPv6.15.18//NONSGML v1.0//EN
CALSCALE:GREGORIAN
METHOD:PUBLISH
X-WR-CALNAME:Giovane-Elber-Stiftung
X-ORIGINAL-URL:https://giovane-elber-stiftung.de
X-WR-CALDESC:Veranstaltungen für Giovane-Elber-Stiftung
REFRESH-INTERVAL;VALUE=DURATION:PT1H
X-Robots-Tag:noindex
X-PUBLISHED-TTL:PT1H
BEGIN:VTIMEZONE
TZID:Europe/Berlin
BEGIN:DAYLIGHT
TZOFFSETFROM:+0100
TZOFFSETTO:+0200
TZNAME:CEST
DTSTART:20210328T010000
END:DAYLIGHT
BEGIN:STANDARD
TZOFFSETFROM:+0200
TZOFFSETTO:+0100
TZNAME:CET
DTSTART:20211031T010000
END:STANDARD
BEGIN:DAYLIGHT
TZOFFSETFROM:+0100
TZOFFSETTO:+0200
TZNAME:CEST
DTSTART:20220327T010000
END:DAYLIGHT
BEGIN:STANDARD
TZOFFSETFROM:+0200
TZOFFSETTO:+0100
TZNAME:CET
DTSTART:20221030T010000
END:STANDARD
BEGIN:DAYLIGHT
TZOFFSETFROM:+0100
TZOFFSETTO:+0200
TZNAME:CEST
DTSTART:20230326T010000
END:DAYLIGHT
BEGIN:STANDARD
TZOFFSETFROM:+0200
TZOFFSETTO:+0100
TZNAME:CET
DTSTART:20231029T010000
END:STANDARD
END:VTIMEZONE
BEGIN:VEVENT
DTSTART;TZID=Europe/Berlin:20220303T193000
DTEND;TZID=Europe/Berlin:20220303T230000
DTSTAMP:20260426T010813
CREATED:20220212T095920Z
LAST-MODIFIED:20220212T095920Z
UID:2520-1646335800-1646348400@giovane-elber-stiftung.de
SUMMARY:Märzstammtisch 2022
DESCRIPTION:Unser Märzstammtisch findet am Donnerstag\, den 03.03.2022 ab 19:30 Uhr im Restaurant Zom Heiland\, Bachstr. 17\, in 73650 Winterbach statt \nInteressenten\, Sponsoren\, Unterstützer und Freunde des Vereins und der Stiftung\, aber auch Neugierige\, die Verein und Stiftung kennen lernen möchten\, sind recht herzlich eingeladen. \nTeilnahme nach den aktuellen Coronabedingungen! \nZur besseren Planung bitten wir um Anmeldung unter: info@giovane-elber-stiftung.de
URL:https://giovane-elber-stiftung.de/event/maerzstammtisch-2022/
LOCATION:Restaurant Zom Heiland\, Bachstr. 17\, Winterbach\, 73650\, Deutschland
ATTACH;FMTTYPE=image/jpeg:https://giovane-elber-stiftung.de/wp-content/uploads/2022/02/Restaurant-Zom-Heiland-Winterbach.jpg
ORGANIZER;CN="Verein zur F%C3%B6rderung brasilianischer Stra%C3%9Fenkinder e.V.":MAILTO:info@giovane-elber-stiftung.de
END:VEVENT
END:VCALENDAR