BEGIN:VCALENDAR
VERSION:2.0
PRODID:-//Giovane-Elber-Stiftung - ECPv6.15.18//NONSGML v1.0//EN
CALSCALE:GREGORIAN
METHOD:PUBLISH
X-ORIGINAL-URL:https://giovane-elber-stiftung.de
X-WR-CALDESC:Veranstaltungen für Giovane-Elber-Stiftung
REFRESH-INTERVAL;VALUE=DURATION:PT1H
X-Robots-Tag:noindex
X-PUBLISHED-TTL:PT1H
BEGIN:VTIMEZONE
TZID:Europe/Berlin
BEGIN:DAYLIGHT
TZOFFSETFROM:+0100
TZOFFSETTO:+0200
TZNAME:CEST
DTSTART:20210328T010000
END:DAYLIGHT
BEGIN:STANDARD
TZOFFSETFROM:+0200
TZOFFSETTO:+0100
TZNAME:CET
DTSTART:20211031T010000
END:STANDARD
BEGIN:DAYLIGHT
TZOFFSETFROM:+0100
TZOFFSETTO:+0200
TZNAME:CEST
DTSTART:20220327T010000
END:DAYLIGHT
BEGIN:STANDARD
TZOFFSETFROM:+0200
TZOFFSETTO:+0100
TZNAME:CET
DTSTART:20221030T010000
END:STANDARD
BEGIN:DAYLIGHT
TZOFFSETFROM:+0100
TZOFFSETTO:+0200
TZNAME:CEST
DTSTART:20230326T010000
END:DAYLIGHT
BEGIN:STANDARD
TZOFFSETFROM:+0200
TZOFFSETTO:+0100
TZNAME:CET
DTSTART:20231029T010000
END:STANDARD
END:VTIMEZONE
BEGIN:VEVENT
DTSTART;TZID=Europe/Berlin:20220707T193000
DTEND;TZID=Europe/Berlin:20220707T233000
DTSTAMP:20260425T202501
CREATED:20220604T112512Z
LAST-MODIFIED:20220604T112512Z
UID:2618-1657222200-1657236600@giovane-elber-stiftung.de
SUMMARY:Julistammtisch 2022
DESCRIPTION:Unser Julistammtisch findet am Donnerstag\, den 07.07.2022 ab 19:30 Uhr im Restaurant Kesselhaus\, Arnoldstr. 3\, in 73614 Schorndorf statt \nInteressenten\, Sponsoren\, Unterstützer und Freunde des Vereins und der Stiftung\, aber auch Neugierige\, die Verein und Stiftung kennen lernen möchten\, sind recht herzlich eingeladen. \nZur besseren Planung bitten wir um Anmeldung unter: info@giovane-elber-stiftung.de
URL:https://giovane-elber-stiftung.de/event/julistammtisch-2022/
LOCATION:Kesselhaus Schorndorf\, Arnoldstr. 3\, Schorndorf\, 73614
ORGANIZER;CN="Verein zur F%C3%B6rderung brasilianischer Stra%C3%9Fenkinder e.V.":MAILTO:info@giovane-elber-stiftung.de
END:VEVENT
END:VCALENDAR