BEGIN:VCALENDAR
VERSION:2.0
PRODID:-//Giovane-Elber-Stiftung - ECPv6.15.18//NONSGML v1.0//EN
CALSCALE:GREGORIAN
METHOD:PUBLISH
X-ORIGINAL-URL:https://giovane-elber-stiftung.de
X-WR-CALDESC:Veranstaltungen für Giovane-Elber-Stiftung
REFRESH-INTERVAL;VALUE=DURATION:PT1H
X-Robots-Tag:noindex
X-PUBLISHED-TTL:PT1H
BEGIN:VTIMEZONE
TZID:Europe/Berlin
BEGIN:DAYLIGHT
TZOFFSETFROM:+0100
TZOFFSETTO:+0200
TZNAME:CEST
DTSTART:20210328T010000
END:DAYLIGHT
BEGIN:STANDARD
TZOFFSETFROM:+0200
TZOFFSETTO:+0100
TZNAME:CET
DTSTART:20211031T010000
END:STANDARD
BEGIN:DAYLIGHT
TZOFFSETFROM:+0100
TZOFFSETTO:+0200
TZNAME:CEST
DTSTART:20220327T010000
END:DAYLIGHT
BEGIN:STANDARD
TZOFFSETFROM:+0200
TZOFFSETTO:+0100
TZNAME:CET
DTSTART:20221030T010000
END:STANDARD
BEGIN:DAYLIGHT
TZOFFSETFROM:+0100
TZOFFSETTO:+0200
TZNAME:CEST
DTSTART:20230326T010000
END:DAYLIGHT
BEGIN:STANDARD
TZOFFSETFROM:+0200
TZOFFSETTO:+0100
TZNAME:CET
DTSTART:20231029T010000
END:STANDARD
END:VTIMEZONE
BEGIN:VEVENT
DTSTART;TZID=Europe/Berlin:20221103T193000
DTEND;TZID=Europe/Berlin:20221103T230000
DTSTAMP:20260425T151700
CREATED:20221013T155238Z
LAST-MODIFIED:20221013T155238Z
UID:2672-1667503800-1667516400@giovane-elber-stiftung.de
SUMMARY:Novemberstammtisch 2022
DESCRIPTION:Interessenten\, Sponsoren\, Unterstützer und Freunde des Vereins und der Stiftung\, aber auch Neugierige\, die Verein und Stiftung kennen lernen möchten aufgepasst. \nSie wollen sich über unsere Arbeit in Verein und Stiftung informieren? \nDann haben Sie nun die Gelegenheit. \nKommen Sie zu unserem Stammtisch. \nUnser Novemberstammtisch findet am Donnerstag\, den 03.11.2022 ab 19:30 Uhr im Gasthaus Krone\, Kronenbergle 1\, in 73650 Winterbach statt. \nTeilnahme nach den aktuellen Coronabedingungen! \nZur besseren Planung bitten wir um Anmeldung unter: info@giovane-elber-stiftung.de
URL:https://giovane-elber-stiftung.de/event/novemberstammtisch-2022/
LOCATION:Restaurant Krone – Winterbach\, Kronenbergele 1\, Winterbach\, 73650
ATTACH;FMTTYPE=image/jpeg:https://giovane-elber-stiftung.de/wp-content/uploads/2018/10/Restaurant-Krone-Winterbach.jpg
ORGANIZER;CN="Verein zur F%C3%B6rderung brasilianischer Stra%C3%9Fenkinder e.V.":MAILTO:info@giovane-elber-stiftung.de
END:VEVENT
END:VCALENDAR