BEGIN:VCALENDAR
VERSION:2.0
PRODID:-//Giovane-Elber-Stiftung - ECPv6.15.18//NONSGML v1.0//EN
CALSCALE:GREGORIAN
METHOD:PUBLISH
X-ORIGINAL-URL:https://giovane-elber-stiftung.de
X-WR-CALDESC:Veranstaltungen für Giovane-Elber-Stiftung
REFRESH-INTERVAL;VALUE=DURATION:PT1H
X-Robots-Tag:noindex
X-PUBLISHED-TTL:PT1H
BEGIN:VTIMEZONE
TZID:Europe/Berlin
BEGIN:DAYLIGHT
TZOFFSETFROM:+0100
TZOFFSETTO:+0200
TZNAME:CEST
DTSTART:20230326T010000
END:DAYLIGHT
BEGIN:STANDARD
TZOFFSETFROM:+0200
TZOFFSETTO:+0100
TZNAME:CET
DTSTART:20231029T010000
END:STANDARD
BEGIN:DAYLIGHT
TZOFFSETFROM:+0100
TZOFFSETTO:+0200
TZNAME:CEST
DTSTART:20240331T010000
END:DAYLIGHT
BEGIN:STANDARD
TZOFFSETFROM:+0200
TZOFFSETTO:+0100
TZNAME:CET
DTSTART:20241027T010000
END:STANDARD
BEGIN:DAYLIGHT
TZOFFSETFROM:+0100
TZOFFSETTO:+0200
TZNAME:CEST
DTSTART:20250330T010000
END:DAYLIGHT
BEGIN:STANDARD
TZOFFSETFROM:+0200
TZOFFSETTO:+0100
TZNAME:CET
DTSTART:20251026T010000
END:STANDARD
END:VTIMEZONE
BEGIN:VEVENT
DTSTART;TZID=Europe/Berlin:20240907T110000
DTEND;TZID=Europe/Berlin:20240907T180000
DTSTAMP:20260425T190833
CREATED:20240725T071319Z
LAST-MODIFIED:20240725T072130Z
UID:3660-1725706800-1725732000@giovane-elber-stiftung.de
SUMMARY:Charity Turnier "Fit all Open" Zugunsten der Giovane-Elber-Stiftung
DESCRIPTION:Golfer aufgepasst!\nDer Golf- und Landclub Haghof e.V. veranstaltet zu Gunsten der Giovane-Elber-Stiftung ein Golfturnier. \nZeigen Sie Ihr Können und unterstützen Sie unsere Stiftung \nName:                  Fit all Open „Zugunsten der Giovane-Elber-Stiftung“\nDatum:                 07.09.2024\nFormat:                Scramble\nAustragender:    Club Golf- und Landclub Haghof e.V. \nAnmeldungen sind möglich\, direkt unter: \n\nhttps://haghof.albatros9.net/a9online/#/tournaments\n\nüber die Homepage des Golfclubs: \n\nhttps://glc-haghof.de/\n\noder über das Sekretariat des Golfclubs: \n\nTel.:       (0 71 82) 92 76-0\nMail:     info@glc-haghof.de\n\nBürozeiten:\nMo:       09:00 – 12:00 Uhr\nDi-So:   09:00 – 17:00 Uhr \n240717 OZF Poster Golfturnier
URL:https://giovane-elber-stiftung.de/event/charity-turnier-fit-all-open-zugunsten-der-giovane-elber-stiftung/
LOCATION:Golf- & Landclub Haghof\, Haghof 6\, Alfdorf-Haghof\, 73553\, Deutschland
ATTACH;FMTTYPE=image/png:https://giovane-elber-stiftung.de/wp-content/uploads/2024/07/Golf-Landclub-Haghof.png
ORGANIZER;CN="Golf- & Landclub Haghof e.V.":MAILTO:info@glc-haghof.de
END:VEVENT
END:VCALENDAR