BEGIN:VCALENDAR
VERSION:2.0
PRODID:-//Giovane-Elber-Stiftung - ECPv6.15.18//NONSGML v1.0//EN
CALSCALE:GREGORIAN
METHOD:PUBLISH
X-ORIGINAL-URL:https://giovane-elber-stiftung.de
X-WR-CALDESC:Veranstaltungen für Giovane-Elber-Stiftung
REFRESH-INTERVAL;VALUE=DURATION:PT1H
X-Robots-Tag:noindex
X-PUBLISHED-TTL:PT1H
BEGIN:VTIMEZONE
TZID:Europe/Berlin
BEGIN:DAYLIGHT
TZOFFSETFROM:+0100
TZOFFSETTO:+0200
TZNAME:CEST
DTSTART:20230326T010000
END:DAYLIGHT
BEGIN:STANDARD
TZOFFSETFROM:+0200
TZOFFSETTO:+0100
TZNAME:CET
DTSTART:20231029T010000
END:STANDARD
BEGIN:DAYLIGHT
TZOFFSETFROM:+0100
TZOFFSETTO:+0200
TZNAME:CEST
DTSTART:20240331T010000
END:DAYLIGHT
BEGIN:STANDARD
TZOFFSETFROM:+0200
TZOFFSETTO:+0100
TZNAME:CET
DTSTART:20241027T010000
END:STANDARD
BEGIN:DAYLIGHT
TZOFFSETFROM:+0100
TZOFFSETTO:+0200
TZNAME:CEST
DTSTART:20250330T010000
END:DAYLIGHT
BEGIN:STANDARD
TZOFFSETFROM:+0200
TZOFFSETTO:+0100
TZNAME:CET
DTSTART:20251026T010000
END:STANDARD
END:VTIMEZONE
BEGIN:VEVENT
DTSTART;TZID=Europe/Berlin:20241201T110000
DTEND;TZID=Europe/Berlin:20241201T200000
DTSTAMP:20260425T151923
CREATED:20241105T200703Z
LAST-MODIFIED:20241128T174039Z
UID:3797-1733050800-1733083200@giovane-elber-stiftung.de
SUMMARY:Teilnahme am traditionellen Winterbacher Weihnachtsmarkt
DESCRIPTION:Auch dieses Jahr sind wir mit unserem Stand wieder am traditionellen Winterbacher Weihnachtsmarkt dabei. Kommen Sie vorbei und erfahren wie wir in unseren Projekten arbeiten. Außerdem können Lose für unsere Tombola\, unser Kinderkalender und vieles mehr erworben werden. \nOder Ihnen ist kalt\, dann wärmt unser Quentao auf. \nQuentao? Der etwas andere Glühwein\, mit brasilianischem Geschmack\, der nach Urlaubsfeeling schmeckt. \nFür die kleineren unter uns haben wir dann noch eine Überraschung. Der Nikolaus wird zwischen ca. 16 – 18 Uhr an unserem Stand bzw. auf dem Weihnachtsmarkt unterwegs sein und kleine Geschenke verteilen. \nMit etwas Glück können wir Giovane an diesem Tag ebenfalls an unserem Stand begrüßen. \nUnseren Kalender 2025 kann gegen eine Spende ab 10\,– EUR an unserem Stand erworben werden\, kommen Sie zwischen 14:00 und 15:00 Uhr vorbei und lassen Sie sich Ihren Kalender von Giovane signieren.
URL:https://giovane-elber-stiftung.de/event/teilnahme-am-traditionellen-winterbacher-weihnachtsmarkt/
LOCATION:Am Marktplatz\, Winterbach\, 73650
ATTACH;FMTTYPE=image/jpeg:https://giovane-elber-stiftung.de/wp-content/uploads/2017/12/Weihnachtsmarkt09.jpg
ORGANIZER;CN="Verein zur F%C3%B6rderung brasilianischer Stra%C3%9Fenkinder e.V.":MAILTO:info@giovane-elber-stiftung.de
END:VEVENT
END:VCALENDAR