BEGIN:VCALENDAR
VERSION:2.0
PRODID:-//Giovane-Elber-Stiftung - ECPv6.15.18//NONSGML v1.0//EN
CALSCALE:GREGORIAN
METHOD:PUBLISH
X-ORIGINAL-URL:https://giovane-elber-stiftung.de
X-WR-CALDESC:Veranstaltungen für Giovane-Elber-Stiftung
REFRESH-INTERVAL;VALUE=DURATION:PT1H
X-Robots-Tag:noindex
X-PUBLISHED-TTL:PT1H
BEGIN:VTIMEZONE
TZID:Europe/Berlin
BEGIN:DAYLIGHT
TZOFFSETFROM:+0100
TZOFFSETTO:+0200
TZNAME:CEST
DTSTART:20240331T010000
END:DAYLIGHT
BEGIN:STANDARD
TZOFFSETFROM:+0200
TZOFFSETTO:+0100
TZNAME:CET
DTSTART:20241027T010000
END:STANDARD
BEGIN:DAYLIGHT
TZOFFSETFROM:+0100
TZOFFSETTO:+0200
TZNAME:CEST
DTSTART:20250330T010000
END:DAYLIGHT
BEGIN:STANDARD
TZOFFSETFROM:+0200
TZOFFSETTO:+0100
TZNAME:CET
DTSTART:20251026T010000
END:STANDARD
BEGIN:DAYLIGHT
TZOFFSETFROM:+0100
TZOFFSETTO:+0200
TZNAME:CEST
DTSTART:20260329T010000
END:DAYLIGHT
BEGIN:STANDARD
TZOFFSETFROM:+0200
TZOFFSETTO:+0100
TZNAME:CET
DTSTART:20261025T010000
END:STANDARD
END:VTIMEZONE
BEGIN:VEVENT
DTSTART;TZID=Europe/Berlin:20250222T190000
DTEND;TZID=Europe/Berlin:20250222T233000
DTSTAMP:20260425T123153
CREATED:20241206T105204Z
LAST-MODIFIED:20241206T111158Z
UID:3895-1740250800-1740267000@giovane-elber-stiftung.de
SUMMARY:Carnaval dos Tigres (Veranstalter: Tigre vermelho - Kooperationspartner der GES)
DESCRIPTION: 
URL:https://giovane-elber-stiftung.de/event/carnaval-dos-tigres-kooperationspartner-der-ges/
LOCATION:Phönixhalle im Römerkastell\, Naststraße 43-45\, Stuttgart\, 70376
ATTACH;FMTTYPE=image/jpeg:https://giovane-elber-stiftung.de/wp-content/uploads/2024/12/Flyer-Carnaval-2025.jpg
ORGANIZER;CN="Tigre vermelho e.V.":MAILTO:kontakt@tigre.de
END:VEVENT
END:VCALENDAR