BEGIN:VCALENDAR
VERSION:2.0
PRODID:-//Giovane-Elber-Stiftung - ECPv6.15.18//NONSGML v1.0//EN
CALSCALE:GREGORIAN
METHOD:PUBLISH
X-ORIGINAL-URL:https://giovane-elber-stiftung.de
X-WR-CALDESC:Veranstaltungen für Giovane-Elber-Stiftung
REFRESH-INTERVAL;VALUE=DURATION:PT1H
X-Robots-Tag:noindex
X-PUBLISHED-TTL:PT1H
BEGIN:VTIMEZONE
TZID:Europe/Berlin
BEGIN:DAYLIGHT
TZOFFSETFROM:+0100
TZOFFSETTO:+0200
TZNAME:CEST
DTSTART:20240331T010000
END:DAYLIGHT
BEGIN:STANDARD
TZOFFSETFROM:+0200
TZOFFSETTO:+0100
TZNAME:CET
DTSTART:20241027T010000
END:STANDARD
BEGIN:DAYLIGHT
TZOFFSETFROM:+0100
TZOFFSETTO:+0200
TZNAME:CEST
DTSTART:20250330T010000
END:DAYLIGHT
BEGIN:STANDARD
TZOFFSETFROM:+0200
TZOFFSETTO:+0100
TZNAME:CET
DTSTART:20251026T010000
END:STANDARD
BEGIN:DAYLIGHT
TZOFFSETFROM:+0100
TZOFFSETTO:+0200
TZNAME:CEST
DTSTART:20260329T010000
END:DAYLIGHT
BEGIN:STANDARD
TZOFFSETFROM:+0200
TZOFFSETTO:+0100
TZNAME:CET
DTSTART:20261025T010000
END:STANDARD
END:VTIMEZONE
BEGIN:VEVENT
DTSTART;TZID=Europe/Berlin:20251130T110000
DTEND;TZID=Europe/Berlin:20251130T200000
DTSTAMP:20260423T063124
CREATED:20251121T060024Z
LAST-MODIFIED:20251121T065329Z
UID:4176-1764500400-1764532800@giovane-elber-stiftung.de
SUMMARY:Winterbacher Weihnachtsmarkt 2025 - Wir sind dabei
DESCRIPTION:Alle Jahre wieder findet der Winterbacher Weihnachtsmarkt statt. \nAlle Jahre wieder sind wir mit dabei. \nKommen Sie an unserem Stand vorbei. \nDieses Jahr haben wir unser Angebot erweitert: \n\nKinderkalender\nTombola mit tollen Preisen (Eintrittskarten\, Sportartikel\, Einkaufgutscheine uvm.)\nWeihnachtskarten\nQuentao (brasilianischer Glühwein)\nNeu: Pollofino-Burger (brasilianische Burgervariante mit Hähnchen und Ananas)\n\nAußerdem können Sie sich über die Arbeit von Verein und Stiftung informieren.
URL:https://giovane-elber-stiftung.de/event/winterbacher-weihnachtsmarkt-2025-wir-sind-dabei/
LOCATION:Am Marktplatz\, Winterbach\, 73650
ATTACH;FMTTYPE=image/jpeg:https://giovane-elber-stiftung.de/wp-content/uploads/2025/08/Bild-34.jpg
ORGANIZER;CN="Gemeinde Winterbach":MAILTO:k.klafs(@)winterbach.de
END:VEVENT
END:VCALENDAR